BEGIN:VCALENDAR
VERSION:2.0
PRODID:-//Peak Alliance for a Sustainable Future - ECPv6.15.20//NONSGML v1.0//EN
CALSCALE:GREGORIAN
METHOD:PUBLISH
X-WR-CALNAME:Peak Alliance for a Sustainable Future
X-ORIGINAL-URL:https://peakallianceco.org
X-WR-CALDESC:Events for Peak Alliance for a Sustainable Future
REFRESH-INTERVAL;VALUE=DURATION:PT1H
X-Robots-Tag:noindex
X-PUBLISHED-TTL:PT1H
BEGIN:VTIMEZONE
TZID:UTC
BEGIN:STANDARD
TZOFFSETFROM:+0000
TZOFFSETTO:+0000
TZNAME:UTC
DTSTART:20220101T000000
END:STANDARD
END:VTIMEZONE
BEGIN:VEVENT
DTSTART;TZID=UTC:20251015T120000
DTEND;TZID=UTC:20251015T131500
DTSTAMP:20260424T002533
CREATED:20250930T161637Z
LAST-MODIFIED:20250930T163220Z
UID:1855-1760529600-1760534100@peakallianceco.org
SUMMARY:Sustainability in Progress
DESCRIPTION:Topic: Bright Idea – Conserving Energy\n\n\n\nEnergy rates are changing\, and so is the demand. Let’s talk about it and provide a better understanding of the energy landscape in our region. Join Pikes Peak Permaculture’s Ally Richardson\, cohost of the Peak Environment podcast\, for a free public presentation on practical ways we can reduce energy use and rethink consumption. We will delve into the current state of energy usage in the Pikes Peak region\, examining the primary sources of energy and identifying the sectors that consume the most. We will also explore the factors driving changes in energy rates and demand\, providing you with a comprehensive understanding of the challenges and opportunities we face. \nWe encourage you to actively participate in the Q&A session following the presentation\, where panelists expert panelists will be able to answer your questions LIVE. By the end of this meeting\, we hope you will feel empowered to take action towards a more sustainable and resilient future. \nIn-person at UCCS Downtown 102 S. Tejon Street\, Colorado Springs; Or virtually on Youtube: https://www.youtube.com/watch?v=PX1btxPC1BY \n  \n\n\n  \n  \nPeak Alliance for a Sustainable Future is a 501c3 non-profit organization that strives to promote regional sustainability in the Pikes Peak region and to advance the regional sustainability plan called “Looking to Our Future: Pikes Peak Region 2030″ [2012]. We serve as a hub for sustainability information and resources and provide networking\, education\, and consulting opportunities to businesses\, organizations\, and residents in the Pikes Peak Region. Join our Facebook Group\, Sustainable and Resilient Pikes Peak Region. \nPikes Peak Permaculture\, Inc. is a non-profit\, educational organization with the following mission:To provide education and instruction to the general public on the nature\, ways and benefits of the discipline of Permaculture; To provide education and instruction to the general public on the ethics\, principles and applied technologies of the discipline of Permaculture; To provide information resources to the public on similar and related organizations; To act as a local\, regional\, national and international hub for the general education\, advancement\, and evolution of the discipline of Permaculture.
URL:https://peakallianceco.org/event/sustainability-in-progress-14/
LOCATION:UCCS Downtown\, 102 S Tejon St\, Colorado Springs\, CO\, 80903\, United States
CATEGORIES:SIP
ATTACH;FMTTYPE=image/jpeg:https://peakallianceco.org/wp-content/uploads/2024/03/SIP_newsletter_header.jpg
END:VEVENT
BEGIN:VEVENT
DTSTART;TZID=UTC:20250917T120000
DTEND;TZID=UTC:20250917T130000
DTSTAMP:20260424T002533
CREATED:20250908T164840Z
LAST-MODIFIED:20250908T164840Z
UID:1834-1758110400-1758114000@peakallianceco.org
SUMMARY:Sustainability in Progress
DESCRIPTION:Topic: Arts & Culture – Expression & Intersections with Sustainability\nThe Cultural Office of the Pikes Peak Region (COPPR) unifies the power of arts & culture across our community. Through centralized services\, gatherings\, and strategic programs\, they make creative workers & organizations were powerful and positively impactful for the Pikes Peak region. During this visit with Executive Director\, Angela Seals\, we’ll discuss the intersections between today’s arts community and environmental priorities\, progress on the Arts Vision 2030 cultural plan\, and what COPPR sees on the horizon for the creative life of El Paso & Teller counties. \nAngela Seals is a creative leader\, project manager\, public programs designer\, and speaker with 20 years of experience working at arts nonprofits. She has worked with the Cultural Office in a variety of roles since 2013. Angela has built a reputation for dynamic and collaborative impact across her career in Colorado Springs and at the Children’s Museum of Pittsburgh\, Pittsburgh Cultural Trust / Pittsburgh Dance Council\, Carnegie Mellon University\, and the Corcoran College of Art + Design in Washington\, D.C. She has been honored with awards for her service to the field\, including the 2024 Women of Influence Award from Colorado Springs Business Journal and the 2022 Juneteenth Community Award from Pikes Peak Diversity Council. \nPlease register at https://us02web.zoom.us/meeting/register/HSD6IEKYR-yNGcsvHS2P3A \nPeak Alliance for a Sustainable Future is a 501c3 non-profit organization that strives to promote regional sustainability in the Pikes Peak region and to advance the regional sustainability plan called “Looking to Our Future: Pikes Peak Region 2030″ [2012]. We serve as a hub for sustainability information and resources and provide networking\, education\, and consulting opportunities to businesses\, organizations\, and residents in the Pikes Peak Region.
URL:https://peakallianceco.org/event/sustainability-in-progress-12/
LOCATION:Zoom
ATTACH;FMTTYPE=image/jpeg:https://peakallianceco.org/wp-content/uploads/2024/03/SIP_newsletter_header.jpg
END:VEVENT
BEGIN:VEVENT
DTSTART;TZID=UTC:20250717T120000
DTEND;TZID=UTC:20250717T130000
DTSTAMP:20260424T002533
CREATED:20250626T174216Z
LAST-MODIFIED:20250626T174216Z
UID:1820-1752753600-1752757200@peakallianceco.org
SUMMARY:No Sustainability in Progress Scheduled for July
DESCRIPTION:No Sustainability in Progress event in July. \nSave the Date! Join us on August 20th\, 12p – 1p\, via Zoom. Topic will be nuclear power which has been in the news so much lately. Details coming in early Aug.
URL:https://peakallianceco.org/event/no-sustainability-in-progress-scheduled-for-july/
LOCATION:CO
ATTACH;FMTTYPE=image/jpeg:https://peakallianceco.org/wp-content/uploads/2024/03/SIP_newsletter_header.jpg
END:VEVENT
BEGIN:VEVENT
DTSTART;TZID=UTC:20250618T120000
DTEND;TZID=UTC:20250618T130000
DTSTAMP:20260424T002533
CREATED:20250529T190337Z
LAST-MODIFIED:20250605T155715Z
UID:1810-1750248000-1750251600@peakallianceco.org
SUMMARY:Sustainability in Progress
DESCRIPTION:Sustainability in Progress: Regional Transportation Planning Update \nWe’ll hear from the Pikes Peak Area Council of Governments (PPACG) and Mountain Metro (Colorado Springs’ bus system). John Liosatos will discuss the recently adopted 2050 Long Range Transportation Plan for the Pikes Peak Region as well as the role the Pikes Peak Area Council of Governments (PPACG) plays in bringing together local communities. Jacob Matsen\, Planning and Operations Supervisor for Mountain Metropolitan Transit\, will share the agency’s short- and long-term vision for improved public transit service throughout the Pikes Peak Region – including increased services\, greater regional connections\, innovative modes of transit\, and more. \nRegister Here to Receive Link: https://us02web.zoom.us/meeting/register/pEktJ5xCR7O2PjS3265dSg \nClick on the “Looking to Our Future – Pikes Peak Region 2030” sustainability framework for information about regional sustainable transportation and related goals.
URL:https://peakallianceco.org/event/sustainability-in-progress-11/
LOCATION:Zoom
ATTACH;FMTTYPE=image/jpeg:https://peakallianceco.org/wp-content/uploads/2024/03/SIP_newsletter_header.jpg
END:VEVENT
BEGIN:VEVENT
DTSTART;TZID=UTC:20250521T120000
DTEND;TZID=UTC:20250521T130000
DTSTAMP:20260424T002533
CREATED:20250502T165719Z
LAST-MODIFIED:20250502T165719Z
UID:1800-1747828800-1747832400@peakallianceco.org
SUMMARY:Sustainability in Progress
DESCRIPTION:May Sustainability in Progress (SIP)\n\n\n\n\n\n\n\n\n\n\n\n\n\n\nWhat: A monthly speaker series that highlights efforts to advance the regional sustainability plan. \nWhen: Wednesday\, May 21\, 2025\, from 12:00 – 1:30 pm \nVirtual – Register here to get the Zoom link: https://us02web.zoom.us/meeting/register/QFVcv-2VRZGvEovtDnV9cQ \nWho: This event is open to the community. Please help us spread the word. \nFacebook Event: https://www.facebook.com/share/19MGFvo7J3/ \nSIP Topic: Home Grown – Built to Live\, Love\, Last\n“Colorado Springs and El Paso County aren’t building enough homes that typical buyers can afford\, while smaller houses and other types of housing options are needed to make housing more attainable for many people\, including young adults… and seniors….” That’s the conclusion of a recent report by the Pikes Peak Housing Network. \nJill Gaebler\, Executive Director\, will tell us about how the PPHN is meeting the challenge of supporting “innovative and collaborative solutions to promote housing affordability\, access and production” in the Pikes Peak Region. The Network’s mission involves advocating for sustainability principles like infill and redevelopment and access to transportation options\, employment and living wages\, cultural activities\, green space\, and more. \nAffordable\, accessible housing is key to the establishment of a regional culture and resilient\, sustainable built environment essential to a healthy economy\, quality of life\, attractive workforce environment\, and personal health now and in the future. \nThe presentation will be recorded and available on Studio 809’s Peak Environment Podcast. Please allow for two to three weeks for the production of the podcast. You can also listen to past SIP presentations on Peak 809 Podcasts at peakallianceco.org.
URL:https://peakallianceco.org/event/sustainability-in-progress-10/
LOCATION:Zoom
ATTACH;FMTTYPE=image/jpeg:https://peakallianceco.org/wp-content/uploads/2024/03/SIP_newsletter_header.jpg
END:VEVENT
BEGIN:VEVENT
DTSTART;TZID=UTC:20250416T120000
DTEND;TZID=UTC:20250416T130000
DTSTAMP:20260424T002533
CREATED:20250407T150652Z
LAST-MODIFIED:20250411T152528Z
UID:1791-1744804800-1744808400@peakallianceco.org
SUMMARY:Sustainability in Progress
DESCRIPTION:April Sustainability in Progress (SIP)\n\n\n\n\n\n\n\n\n\n\n\n\n\n\nWhat: A monthly speaker series that highlights efforts to advance the regional sustainability plan. \nWhen: Wednesday\, April 16\, from 12:00 – 1:30 pm \nWhere: \n\nVirtual: Register here to get the Zoom link: https://us02web.zoom.us/meeting/register/Oan8kU2MR02EG_nmOT4J7Q\n\nWho: This event is open to the community. Please help us spread the word. \nFacebook Event: https://www.facebook.com/share/19MGFvo7J3/ \nSIP Topic: Fountain Creek Water Quality – What the Data Tells Us\nHow fire\, flood\, drought\, and human development are shaping the watershed—and how partnerships and science are helping to protect it. Fountain Creek is one of Colorado’s most closely monitored and ecologically diverse waterways—spanning urban neighborhoods\, rural landscapes\, and natural ecosystems from the top of Pikes Peak to Pueblo. In this Earth Week presentation\, water quality expert Annie Berlemann shares what we know from 68 monitoring sites. \nWith over $1.3 million invested annually in data collection\, the Fountain Creek Watershed tells a complex story of resilience\, risk\, and recovery. Learn about major turning points—from the Waldo Canyon and Black Forest fires to the “Miracle May” floods—and discover what it takes to track and improve water health for both people and wildlife\, including the native Flathead chub\, a species of special concern. \nWhether you’re an environmental professional\, a curious resident\, or just someone who cares about water and the future of Colorado’s ecosystems\, this is a must-attend talk that connects science\, stewardship\, and sustainability. \nThese presentations will be recorded and available on Studio 809’s Peak Environment Podcast. Please allow for two to three weeks for the production of the podcast. You can also listen to past SIP presentations on Peak 809 Podcasts at peakallianceco.org.
URL:https://peakallianceco.org/event/sustainability-in-progress-9/
LOCATION:Zoom
ATTACH;FMTTYPE=image/jpeg:https://peakallianceco.org/wp-content/uploads/2024/03/SIP_newsletter_header.jpg
END:VEVENT
BEGIN:VEVENT
DTSTART;TZID=UTC:20250319T113000
DTEND;TZID=UTC:20250319T133000
DTSTAMP:20260424T002533
CREATED:20250205T192545Z
LAST-MODIFIED:20250303T213848Z
UID:1746-1742383800-1742391000@peakallianceco.org
SUMMARY:Sustainability in Progress
DESCRIPTION:  \n \n\nTHE FUTURE OF FOUNTAIN CREEK\nMarch SIP ⎮ A Presentation & Panel Discussion \nWHAT: Lunch & Learn panel discussion and community conversation exploring the\nfuture of Fountain Creek featuring insights from watershed experts and the author of\nFountain Creek: Big Lessons from a Little River. BYO Lunch; refreshments provided. \nWHY: Learn about the environmental\, economic\, and cultural importance of\nFountain Creek; the challenges it faces; and how we can work together to protect\nand restore our home watershed. \nWHEN: March 19 ⎮ 12:00 PM-1:30 PM MT ⎮ Networking begins at 11:30 AM \nFountain Creek collaborators and partners will be tabling at the event starting at 11:30 AM. \nWHERE: Fountain Creek Nature Center ⎮ 320 Peppergrass Lane\, Fountain\, CO\n80817 \nPLEASE REGISTER: Hybrid ⎮ In Person  or Zoom \nPresenters: Ms Alli Schuch\, Executive Director of the Fountain Creek Watershed District\, and Jim O’Donnell\, author of “Fountain Creek: Big Lessons from a Little River” (2024) \nHosted by Peak Alliance for a Sustainable Future in cooperation with our community collaborators and partners. Thank you for sharing information about this event with your networks! \n \nFebruary 2025 Sustainability in Progress (SIP) event podcast now available! \nConnecting Colorado with the Outdoors – Great Outdoors Colorado and Generation Wild \nGet an update on exciting Great Outdoors Colorado investments and work statewide\, from Christopher Aaby\, the Generation Wild Program Officer with GOCO. Great Outdoors Colorado invests a portion of the Colorado Lottery proceeds through competitive grants open to local governments and land trusts in Colorado. GOCO just released their 2024 annual report available here: https://www.goco.org/annual-report/2024. \nPodcast listeners can find this episode by searching for Peak Environment on their podcast app. \nThe episode can be found on the web here:  https://studio809podcasts.com/connecting-co-with-outdoors/
URL:https://peakallianceco.org/event/sustainability-in-progress-7/
LOCATION:Fountain Creek Nature Center\, 320 Peppergrass Ln\, Fountain\, CO\, 80817\, United States
END:VEVENT
BEGIN:VEVENT
DTSTART;TZID=UTC:20250219T120000
DTEND;TZID=UTC:20250219T130000
DTSTAMP:20260424T002533
CREATED:20250129T175244Z
LAST-MODIFIED:20250129T175929Z
UID:1725-1739966400-1739970000@peakallianceco.org
SUMMARY:Sustainability in Progress
DESCRIPTION:Connecting Colorado with the Outdoors – Great Outdoors Colorado and Generation Wild\nGet an update on exciting Great Outdoors Colorado investments and work statewide\, from Christopher Aaby\, the Generation Wild Program Officer with GOCO. Great Outdoors Colorado invests a portion of the Colorado Lottery proceeds through competitive grants open to local governments and land trusts in Colorado. GOCO just released their 2024 annual report available here https://www.goco.org/annual-report/2024. \nChris was an active board member of Peak Alliance for a Sustainable Future\, and hosted many of our Sustainability in Progress events. Join us in welcoming him for this visit. \nPlease register at the link below.
URL:https://peakallianceco.org/event/sustainability-in-progress-6/
LOCATION:CO
ATTACH;FMTTYPE=image/jpeg:https://peakallianceco.org/wp-content/uploads/2024/03/SIP_newsletter_header.jpg
END:VEVENT
BEGIN:VEVENT
DTSTART;TZID=UTC:20250115T120000
DTEND;TZID=UTC:20250115T130000
DTSTAMP:20260424T002533
CREATED:20241216T165826Z
LAST-MODIFIED:20250106T170749Z
UID:1696-1736942400-1736946000@peakallianceco.org
SUMMARY:Sustainability in Progress
DESCRIPTION:Title – The COS Creek Plan: Dramatic Changes for Monument and Fountain Creeks\nLearn about the comprehensive vision for future investments and stewardship\, with a focus on downtown Colorado Springs. We’ll hear from Chris Lieber\, COO for Pikes Peak Waterways\, Principal at N.E.S. Inc. and Chair of the Downtown Development Authority. \nThe COS Creek Plan establishes a comprehensive vision for the future investments and stewardship of the Fountain Creek Watershed with a specific focus on segments of the Monument and Fountain creeks adjacent to Downtown Colorado Springs. The COS Creek Plan establishes an implementable vision\, which respects our communities’ values\, responds to infrastructure needs\, and leverages opportunities. Implementation of the Plan is being pursued through a unique partnership between Pikes Peak Waterways (non-profit)\, the City of Colorado Springs (Stormwater Enterprise)\, and Colorado Springs Utilities. It is intended to create excitement\, foster collaboration\, and identify public and private partnership opportunities. \n Pikes Peak Waterways is a 501c3 nonprofit organization founded on the premise that visionary planning\, research\, and action is vital to making our region’s waterways sustainable and enjoyable for generations to come. Pikes Peak Waterways serves as a catalyst for change and is turning Fountain and Monument Creek’s challenges into opportunities: opportunities for restoration\, opportunities for preservation\, opportunities for recreation\, and opportunities for community and economic development. \nChris Lieber is leading efforts to implement the COS Creek Plan and supporting the non-profit work of Pikes Peak Waterways. For nearly two decades Chris managed the Colorado Springs Parks\, Trails and Open Space (TOPS) Program. \nPlease register for the event at https://us02web.zoom.us/meeting/register/tZcpduuopzMuHdf7Nk4vUgzyYVjJ69f1d402 \nSustainability in Progress\nA monthly speaker series that highlights efforts to advance the regional sustainability plan. This event is open to the community. It is generally held on the third Wednesday of the month at 12pm. Please help us spread the word. \nFollow us on Facebook – Sustainable and Resilient Pikes Peak Region 
URL:https://peakallianceco.org/event/sustainability-in-progress-5/
LOCATION:Zoom
ATTACH;FMTTYPE=image/jpeg:https://peakallianceco.org/wp-content/uploads/2024/03/SIP_newsletter_header.jpg
END:VEVENT
BEGIN:VEVENT
DTSTART;TZID=UTC:20241120T110000
DTEND;TZID=UTC:20241120T120000
DTSTAMP:20260424T002533
CREATED:20241018T161647Z
LAST-MODIFIED:20241112T215830Z
UID:1668-1732100400-1732104000@peakallianceco.org
SUMMARY:Sustainability in Progress
DESCRIPTION:Title: Shifting the Status Quo of Development \nThere is a divide among sustainability advocates concerning urban development. At a glance\, it may seem that halting all development would be beneficial. However\, John urges us to look beyond the surface and consider the implications of how we develop our cities\, as well as the potential consequences of stopping development altogether. \n\nHe believes that we need to shift the status quo mindset of development. Rapid urbanization\, suburban sprawl\, and the degradation of natural resources have strained infrastructure\, exacerbated social inequalities\, and threatened environmental sustainability. New urban planning approaches foster deeper human connections\, mitigate climate change\, and build communities that are resilient\, equitable\, and prosperous for future generations. \nJohn’s passion and dedication is creating inspiring places that foster deeper connections with each other and our natural environment. With over two decades of experience integrating smart growth principles across various project types\, his strength is creating innovative and sustainable solutions\, engaging a wide variety of stakeholders\, and leading projects from vision to implementation and beyond. \nJohn earned his Landscape Architecture degree from Kansas State University. He has a passion and vested interest in projects that enrich the Colorado Springs area in which he and his wife of over twenty years have lived and raised their family of five. \nHis commitment extends to serving on multiple boards. Recognized for his impact\, he currently serves as Chair of the Colorado Springs Urban Renewal Authority and Co-Chair of ULI Southern Colorado. He helped found the Colorado Chapter of the Congress for the New Urbanism\, and Colorado Springs Urban Intervention. He is an Accredited New Urbanist\, Registered Landscape Architect\, and LEED Accredited Professional. \nSustainability in Progress is a monthly event to learn about sustainability and resiliency in the Pikes Peak Region. \n\n 
URL:https://peakallianceco.org/event/sustainability-in-progress-save-the-date/
LOCATION:Zoom
ATTACH;FMTTYPE=image/jpeg:https://peakallianceco.org/wp-content/uploads/2024/03/SIP_newsletter_header.jpg
END:VEVENT
BEGIN:VEVENT
DTSTART;TZID=UTC:20241016T120000
DTEND;TZID=UTC:20241016T130000
DTSTAMP:20260424T002533
CREATED:20241009T163933Z
LAST-MODIFIED:20241009T163933Z
UID:1661-1729080000-1729083600@peakallianceco.org
SUMMARY:Sustainability in Progress
DESCRIPTION:How Concrete Couch has contributed to increasing interest and engagement in the arts and sustainability in Colorado Springs. Concrete Couch is a nonprofit that works with kids and community groups to create public art\, build community\, and create environments and experiences that humanize our world. \nStay tuned for details!
URL:https://peakallianceco.org/event/sustainability-in-progress-4/
LOCATION:Zoom
ATTACH;FMTTYPE=image/jpeg:https://peakallianceco.org/wp-content/uploads/2024/03/SIP_newsletter_header.jpg
END:VEVENT
BEGIN:VEVENT
DTSTART;TZID=UTC:20240821T120000
DTEND;TZID=UTC:20240821T130000
DTSTAMP:20260424T002533
CREATED:20240801T163842Z
LAST-MODIFIED:20240801T164425Z
UID:1639-1724241600-1724245200@peakallianceco.org
SUMMARY:Sustainability in Progress
DESCRIPTION:Sustainability in Progress\nAug 21\, 2024     12pm – 1pm via Zoom \nLife Happens. Be Ready.\nIn these trying times\, we could all benefit from free training in effective coping to build our collective grit. The GRIT Program offers training in a brief conversational intervention that is used to support effective coping for those in your natural social network. The program is intended to function as one element within more comprehensive planning to help individuals and communities to be as resilient as they can be in the wake of stress-related problems or disasters. In times of disaster\, strengthening coping\, spreading support\, and providing resources can have a positive impact on healing and resilience for everyone. We’ll get the details from Dr. Lauren Shaw\, GRIT Program Manager at UCCS’ Lyda Hill Institute for Human Resilience. \nHere’s a link to register: \nhttps://us02web.zoom.us/meeting/register/tZcucuGpqDosE9KbpycdFfUuRsv2kAxwPiYm
URL:https://peakallianceco.org/event/sustainability-in-progress-2/
LOCATION:Zoom
CATEGORIES:SIP
ATTACH;FMTTYPE=image/jpeg:https://peakallianceco.org/wp-content/uploads/2024/03/SIP_newsletter_header.jpg
END:VEVENT
BEGIN:VEVENT
DTSTART;TZID=UTC:20240320T120000
DTEND;TZID=UTC:20240320T130000
DTSTAMP:20260424T002533
CREATED:20240305T171229Z
LAST-MODIFIED:20240316T172642Z
UID:1600-1710936000-1710939600@peakallianceco.org
SUMMARY:Sustainability in Progress
DESCRIPTION:March Sustainability in Progress (SIP)\n\n\n\n\n\n\n  \nWhat: A monthly speaker series that highlights efforts to advance the regional sustainability plan. \nWhen: Wednesday\, March 20\, from 12:00 – 1:00 PM \nWhere: Online. Register here to get the Zoom link: https://us02web.zoom.us/meeting/register/tZcsdu2ppzIqE9e6i0Ygfi7oex6mAUi_5BlX#/registration \nAfter registering\, you will receive a confirmation email containing information about joining the meeting. \nWho: This event is open to the community. Please help us spread the word. \n\n\nFacebook Event: https://fb.me/e/4ixOXR58K \nTopic: City of Fountain Sustainability Update\nKatie Helm\, Conservation and Sustainability Program Manager for the City of Fountain\, will provide an update on the City of Fountain’s sustainability efforts. \nThis presentation will be recorded and available on Studio 809’s Peak Environment Podcast. Please allow for two to three weeks for the production of the podcast.  \nListen to Past SIP Presentations\nYou can listen to a recording of past SIPs on Studio 809’s Peak Environment Podcast website: https://studio809podcasts.com/category/peak-environment/ or whatever application you use to listen to podcasts. \n\n\n\n\n\n\nPresenter Biography\n\n\n\n\n\n\n\n\n\n\n\n\n\n\n\n\n\n\n\n\n\n\n\n\n\n\n\n\n\n\n\n\n\n\n\n\n\n\n\n\n\n\n\n\n\n\n\n\n\n\n\n\n\n\n\n\n\n\n\n\n\n\n\n\nKatie Helm is the Conservation and Sustainability Program Manager for the City of Fountain\, where she manages energy and water programs. In previous roles she has worked as a Water Conservation Specialist for the City of Aurora\, a Park Ranger for Colorado Parks and Wildlife\, and as a sawyer through Americorps. She earned her Bachelor of Arts in Geography and Environmental Studies at the University of Colorado at Colorado Springs. In 2017 she earned her Master of Science from Denver University for Environmental Management and Policy.
URL:https://peakallianceco.org/event/sustainability-in-progress/
LOCATION:Zoom
CATEGORIES:SIP
END:VEVENT
BEGIN:VEVENT
DTSTART;TZID=UTC:20231018T120000
DTEND;TZID=UTC:20231018T130000
DTSTAMP:20260424T002533
CREATED:20231011T143803Z
LAST-MODIFIED:20231017T214614Z
UID:1256-1697630400-1697634000@peakallianceco.org
SUMMARY:Sustainability In Progress
DESCRIPTION:Colorado Clean Energy Legislation- Colorado Energy Office\nLearn about current and upcoming legislation that will impact greenhouse gas emissions\, energy efficiency\, zero emission vehicles and consumer energy costs from Chris Piper\, Director of Legislative Affairs at the Colorado Energy Office. \nThis presentation will be recorded and available on Studio 809’s Peak Environment Podcast. Please allow for two to three weeks for the production of the podcast. \nRegister here to get the Zoom link: https://us02web.zoom.us/meeting/register/tZAuf-ihpjMiE92zbIU0BrkP96vwASEXXjXL
URL:https://peakallianceco.org/event/october-sustainability-in-progress/
LOCATION:Zoom
CATEGORIES:SIP
END:VEVENT
END:VCALENDAR