BEGIN:VCALENDAR
VERSION:2.0
PRODID:-//Peak Alliance for a Sustainable Future - ECPv6.15.20//NONSGML v1.0//EN
CALSCALE:GREGORIAN
METHOD:PUBLISH
X-WR-CALNAME:Peak Alliance for a Sustainable Future
X-ORIGINAL-URL:https://peakallianceco.org
X-WR-CALDESC:Events for Peak Alliance for a Sustainable Future
REFRESH-INTERVAL;VALUE=DURATION:PT1H
X-Robots-Tag:noindex
X-PUBLISHED-TTL:PT1H
BEGIN:VTIMEZONE
TZID:UTC
BEGIN:STANDARD
TZOFFSETFROM:+0000
TZOFFSETTO:+0000
TZNAME:UTC
DTSTART:20250101T000000
END:STANDARD
END:VTIMEZONE
BEGIN:VEVENT
DTSTART;TZID=UTC:20260418T170000
DTEND;TZID=UTC:20260418T190000
DTSTAMP:20260424T000228
CREATED:20260305T172324Z
LAST-MODIFIED:20260316T155841Z
UID:2241-1776531600-1776538800@peakallianceco.org
SUMMARY:Springs-Area Sustainability Networking
DESCRIPTION:Find out what other planet-minded people in our bioregion are doing and share with us what you’re doing! Followed by some networking time.\n\nCome for the coffee\, stay for the Earth-conscious community cross-pollination & collaboration. Strange times are upon us! How shall we meet the moment together.\n\nPlease share!\n \n 
URL:https://peakallianceco.org/event/springs-area-sustainability-networking/
LOCATION:Kangaroo Coffee\, 319 S Hancock Ave\, Colorado Springs\, CO\, 80903\, United States
ATTACH;FMTTYPE=image/jpeg:https://peakallianceco.org/wp-content/uploads/2024/03/SIP_newsletter_header.jpg
END:VEVENT
END:VCALENDAR